BEGIN:VCALENDAR
VERSION:2.0
PRODID:icalendar-ruby
CALSCALE:GREGORIAN
METHOD:PUBLISH
BEGIN:VEVENT
DTSTAMP:20260421T141514Z
UID:13-709019@nlfirstumchurch.org
DTSTART:20251109T140000Z
DTEND:20251109T150000Z
CLASS:PUBLIC
CREATED:20260421T072508
DESCRIPTION:Join us in person or online for worship each Sunday morning. We
  sing traditional hymns each week. 
LAST-MODIFIED:20260421T072508
LOCATION:Sanctuary 
SUMMARY:Sunday Worship
URL;VALUE=URI:https://www.nlfirstumchurch.org/events/sunday-worship/2025-11
 -09
ATTACH;FILENAME=Easter-Sunday.jpg;FMTTYPE=image/jpeg:https://dq5pwpg1q8ru0.
 cloudfront.net/2025/07/28/15/48/17/465a1420-c5e5-46a5-832d-cea8720e166c/Ea
 ster-Sunday.jpg
END:VEVENT
END:VCALENDAR
